BEGIN:VCALENDAR
VERSION:2.0
PRODID:-//Tukios.com/
BEGIN:VEVENT
UID:b6b2cac4-1983-4d08-9362-acbf5eae94db@www.saskfunerals.ca
DTSTAMP:20260422T200234Z
DTSTART:20260425T200000Z
DTEND:20260425T210000Z
SUMMARY:Funeral Service
DESCRIPTION:
URL:https://www.saskfunerals.ca/obituaries/keenan-sylvestre
LOCATION:Our Lady of Visitation Catholic Church La Loche  La Loche SK S0M 
	1G0
GEO:56.4904829;-109.4405719
END:VEVENT
END:VCALENDAR