BEGIN:VCALENDAR
VERSION:2.0
PRODID:-//Tukios.com/
BEGIN:VEVENT
UID:05f9654d-abd6-4f75-8879-24ab6cd5f2f5@www.saskfunerals.ca
DTSTAMP:20260424T204704Z
DTSTART:20260429T170000Z
DTEND:20260429T180000Z
SUMMARY:Graveside Service
DESCRIPTION:
URL:https://www.saskfunerals.ca/obituaries/darryl-st-germain
LOCATION:St. Antoine de Padoue Roman Catholic Cemetery Batoche  Batoche 
	SK S0K 0E0
GEO:52.754028;-106.110488
END:VEVENT
END:VCALENDAR